BEGIN:VCALENDAR
VERSION:2.0
PRODID:-//rosechili.ca - ECPv6.15.13.1//NONSGML v1.0//EN
CALSCALE:GREGORIAN
METHOD:PUBLISH
X-WR-CALNAME:rosechili.ca
X-ORIGINAL-URL:https://rosechili.ca
X-WR-CALDESC:Événements pour rosechili.ca
REFRESH-INTERVAL;VALUE=DURATION:PT1H
X-Robots-Tag:noindex
X-PUBLISHED-TTL:PT1H
BEGIN:VTIMEZONE
TZID:UTC
BEGIN:STANDARD
TZOFFSETFROM:+0000
TZOFFSETTO:+0000
TZNAME:UTC
DTSTART:20240101T000000
END:STANDARD
END:VTIMEZONE
BEGIN:VEVENT
DTSTART;TZID=UTC:20260408T200000
DTEND;TZID=UTC:20260408T210000
DTSTAMP:20260416T230401
CREATED:20260220T221045Z
LAST-MODIFIED:20260220T221045Z
UID:990-1775678400-1775682000@rosechili.ca
SUMMARY:Lancement d'album Crazy Hungry Funky Lady
DESCRIPTION:
URL:https://rosechili.ca/event/lancement-dalbum-crazy-hungry-funky-lady/
LOCATION:CASA DEL POPOLO\, 4873 Boul. Saint-Laurent\, Montreal\, QC\, H2T 1R6\, Canada
ORGANIZER;CN="Rose Chili":MAILTO:andreanne.martin@hotmail.ca
END:VEVENT
BEGIN:VEVENT
DTSTART;TZID=UTC:20260405T130000
DTEND;TZID=UTC:20260405T150000
DTSTAMP:20260416T230401
CREATED:20260306T214503Z
LAST-MODIFIED:20260306T214503Z
UID:1024-1775394000-1775401200@rosechili.ca
SUMMARY:Maison des aînés de Laval (Privé)
DESCRIPTION:
URL:https://rosechili.ca/event/maison-des-aines-de-laval-prive-2/
END:VEVENT
BEGIN:VEVENT
DTSTART;TZID=UTC:20260322T130000
DTEND;TZID=UTC:20260322T150000
DTSTAMP:20260416T230401
CREATED:20260306T214317Z
LAST-MODIFIED:20260306T214317Z
UID:1022-1774184400-1774191600@rosechili.ca
SUMMARY:Maison des aînés de Laval (Privé)
DESCRIPTION:
URL:https://rosechili.ca/event/maison-des-aines-de-laval-prive/
END:VEVENT
BEGIN:VEVENT
DTSTART;TZID=UTC:20260312T133000
DTEND;TZID=UTC:20260312T143000
DTSTAMP:20260416T230401
CREATED:20260306T213827Z
LAST-MODIFIED:20260306T214206Z
UID:1019-1773322200-1773325800@rosechili.ca
SUMMARY:Jardins Vaudreuil à Vaudreuil-Dorion - (Privé) Spécial Cabane à sucre
DESCRIPTION:
URL:https://rosechili.ca/event/jardins-vaudreuil-a-vaudreuil-dorion-prive-special-cabane-a-sucre/
LOCATION:Jardins Vaudreuil
END:VEVENT
BEGIN:VEVENT
DTSTART;TZID=UTC:20260307T130000
DTEND;TZID=UTC:20260307T150000
DTSTAMP:20260416T230401
CREATED:20260306T213449Z
LAST-MODIFIED:20260306T213449Z
UID:1016-1772888400-1772895600@rosechili.ca
SUMMARY:Maison des aînés - Laval (Privé)
DESCRIPTION:
URL:https://rosechili.ca/event/maison-des-aines-laval-prive/
LOCATION:Maison des aînés de Laval
END:VEVENT
BEGIN:VEVENT
DTSTART;TZID=UTC:20260228T130000
DTEND;TZID=UTC:20260228T150000
DTSTAMP:20260416T230401
CREATED:20260306T231951Z
LAST-MODIFIED:20260306T231951Z
UID:1104-1772283600-1772290800@rosechili.ca
SUMMARY:Maison des aînés de Laval (Privé)
DESCRIPTION:
URL:https://rosechili.ca/event/maison-des-aines-de-laval-prive-7/
END:VEVENT
BEGIN:VEVENT
DTSTART;TZID=UTC:20260215T140000
DTEND;TZID=UTC:20260215T150000
DTSTAMP:20260416T230401
CREATED:20260112T034224Z
LAST-MODIFIED:20260112T034509Z
UID:983-1771164000-1771167600@rosechili.ca
SUMMARY:Salon Tentation - Montréal
DESCRIPTION:15 février – 14h00 \nGrand Quai du Port de Montréal – Chansons coquines – Spécial St-Valentin – Billets par ici  \n 
URL:https://rosechili.ca/event/salon-tentation-montreal/
LOCATION:MONTRÉAL
END:VEVENT
BEGIN:VEVENT
DTSTART;TZID=UTC:20260201T130000
DTEND;TZID=UTC:20260201T150000
DTSTAMP:20260416T230401
CREATED:20260306T232121Z
LAST-MODIFIED:20260306T232121Z
UID:1106-1769950800-1769958000@rosechili.ca
SUMMARY:Maison des aînés Laval (Privé)
DESCRIPTION:
URL:https://rosechili.ca/event/maison-des-aines-laval-prive-3/
END:VEVENT
BEGIN:VEVENT
DTSTART;TZID=UTC:20260125T160000
DTEND;TZID=UTC:20260125T220000
DTSTAMP:20260416T230401
CREATED:20260306T231644Z
LAST-MODIFIED:20260306T231644Z
UID:1102-1769356800-1769378400@rosechili.ca
SUMMARY:Les Belvédères - Téléthon La Ressource (Abitibi)
DESCRIPTION:
URL:https://rosechili.ca/event/les-belvederes-telethon-la-ressource-abitibi/
END:VEVENT
BEGIN:VEVENT
DTSTART;TZID=UTC:20260114T130000
DTEND;TZID=UTC:20260114T143000
DTSTAMP:20260416T230401
CREATED:20260306T231505Z
LAST-MODIFIED:20260306T231505Z
UID:1100-1768395600-1768401000@rosechili.ca
SUMMARY:Maison de Verdun (Privé)
DESCRIPTION:
URL:https://rosechili.ca/event/maison-de-verdun-prive-4/
END:VEVENT
BEGIN:VEVENT
DTSTART;TZID=UTC:20260113T090000
DTEND;TZID=UTC:20260113T110000
DTSTAMP:20260416T230401
CREATED:20260306T231324Z
LAST-MODIFIED:20260306T231416Z
UID:1097-1768294800-1768302000@rosechili.ca
SUMMARY:Les beaux bandits - Montréal (Privé)
DESCRIPTION:
URL:https://rosechili.ca/event/les-beaux-bandits-montreal/
END:VEVENT
BEGIN:VEVENT
DTSTART;TZID=UTC:20260111T130000
DTEND;TZID=UTC:20260111T150000
DTSTAMP:20260416T230401
CREATED:20260306T231132Z
LAST-MODIFIED:20260306T231132Z
UID:1095-1768136400-1768143600@rosechili.ca
SUMMARY:Maison des aînés Laval (Privé)
DESCRIPTION:
URL:https://rosechili.ca/event/maison-des-aines-laval-prive-2/
END:VEVENT
BEGIN:VEVENT
DTSTART;TZID=UTC:20260104T130000
DTEND;TZID=UTC:20260104T150000
DTSTAMP:20260416T230401
CREATED:20260306T231038Z
LAST-MODIFIED:20260306T231038Z
UID:1093-1767531600-1767538800@rosechili.ca
SUMMARY:Maison des aînés de Laval (Privé)
DESCRIPTION:
URL:https://rosechili.ca/event/maison-des-aines-de-laval-prive-6/
END:VEVENT
BEGIN:VEVENT
DTSTART;TZID=UTC:20260103T130000
DTEND;TZID=UTC:20260103T140000
DTSTAMP:20260416T230401
CREATED:20260306T230951Z
LAST-MODIFIED:20260306T230951Z
UID:1091-1767445200-1767448800@rosechili.ca
SUMMARY:CHSLD Nicolet (Montréal) Privé
DESCRIPTION:
URL:https://rosechili.ca/event/chsld-nicolet-montreal-prive/
END:VEVENT
BEGIN:VEVENT
DTSTART;TZID=UTC:20260101T130000
DTEND;TZID=UTC:20260101T140000
DTSTAMP:20260416T230401
CREATED:20260306T230824Z
LAST-MODIFIED:20260306T230824Z
UID:1089-1767272400-1767276000@rosechili.ca
SUMMARY:CHSLD St-Rémi (Privé)
DESCRIPTION:
URL:https://rosechili.ca/event/chsld-st-remi-prive/
END:VEVENT
BEGIN:VEVENT
DTSTART;TZID=UTC:20251231T190000
DTEND;TZID=UTC:20251231T220000
DTSTAMP:20260416T230401
CREATED:20260306T230712Z
LAST-MODIFIED:20260306T230712Z
UID:1087-1767207600-1767218400@rosechili.ca
SUMMARY:Cornelius (Privé)
DESCRIPTION:
URL:https://rosechili.ca/event/cornelius-prive/
END:VEVENT
BEGIN:VEVENT
DTSTART;TZID=UTC:20251231T130000
DTEND;TZID=UTC:20251231T140000
DTSTAMP:20260416T230401
CREATED:20260306T230612Z
LAST-MODIFIED:20260306T230612Z
UID:1085-1767186000-1767189600@rosechili.ca
SUMMARY:CHSLD de la Pinière (Laval) Privé
DESCRIPTION:
URL:https://rosechili.ca/event/chsld-de-la-piniere-laval-prive/
END:VEVENT
BEGIN:VEVENT
DTSTART;TZID=UTC:20251230T180000
DTEND;TZID=UTC:20251230T200000
DTSTAMP:20260416T230401
CREATED:20260306T230524Z
LAST-MODIFIED:20260306T230524Z
UID:1083-1767117600-1767124800@rosechili.ca
SUMMARY:Maison Donalda-Boyer\, Dorval (Privé)
DESCRIPTION:
URL:https://rosechili.ca/event/maison-donalda-boyer-dorval-prive/
END:VEVENT
BEGIN:VEVENT
DTSTART;TZID=UTC:20251227T080000
DTEND;TZID=UTC:20251227T170000
DTSTAMP:20260416T230401
CREATED:20260306T230414Z
LAST-MODIFIED:20260306T230414Z
UID:1081-1766822400-1766854800@rosechili.ca
SUMMARY:Maison des aînés de Laval (Privé)
DESCRIPTION:
URL:https://rosechili.ca/event/maison-des-aines-de-laval-prive-5/
END:VEVENT
BEGIN:VEVENT
DTSTART;TZID=UTC:20251225T130000
DTEND;TZID=UTC:20251225T150000
DTSTAMP:20260416T230401
CREATED:20260306T230336Z
LAST-MODIFIED:20260306T230336Z
UID:1079-1766667600-1766674800@rosechili.ca
SUMMARY:Institut Gériatrique de Montréal (Privé)
DESCRIPTION:
URL:https://rosechili.ca/event/institut-geriatrique-de-montreal-prive/
END:VEVENT
BEGIN:VEVENT
DTSTART;TZID=UTC:20251225T130000
DTEND;TZID=UTC:20251225T150000
DTSTAMP:20260416T230401
CREATED:20251101T181454Z
LAST-MODIFIED:20251101T181454Z
UID:963-1766667600-1766674800@rosechili.ca
SUMMARY:MONTRÉAL\, PRIVÉ
DESCRIPTION:
URL:https://rosechili.ca/event/montreal-prive-5/
LOCATION:MONTRÉAL
END:VEVENT
BEGIN:VEVENT
DTSTART;TZID=UTC:20251224T160000
DTEND;TZID=UTC:20251224T180000
DTSTAMP:20260416T230401
CREATED:20260306T230254Z
LAST-MODIFIED:20260306T230254Z
UID:1077-1766592000-1766599200@rosechili.ca
SUMMARY:CHSLD Bussey (Privé)
DESCRIPTION:
URL:https://rosechili.ca/event/chsld-bussey-prive/
END:VEVENT
BEGIN:VEVENT
DTSTART;TZID=UTC:20251221T130000
DTEND;TZID=UTC:20251221T150000
DTSTAMP:20260416T230401
CREATED:20260306T230146Z
LAST-MODIFIED:20260306T230146Z
UID:1075-1766322000-1766329200@rosechili.ca
SUMMARY:Maison des aînés de Laval (Privé)
DESCRIPTION:
URL:https://rosechili.ca/event/maison-des-aines-de-laval-prive-4/
END:VEVENT
BEGIN:VEVENT
DTSTART;TZID=UTC:20251220T130000
DTEND;TZID=UTC:20251220T140000
DTSTAMP:20260416T230401
CREATED:20260306T230043Z
LAST-MODIFIED:20260306T230043Z
UID:1073-1766235600-1766239200@rosechili.ca
SUMMARY:Résidence Manoir Thérèse Casgrain - Laval (Privé)
DESCRIPTION:
URL:https://rosechili.ca/event/residence-manoir-therese-casgrain-laval-prive/
END:VEVENT
BEGIN:VEVENT
DTSTART;TZID=UTC:20251219T203000
DTEND;TZID=UTC:20251219T230000
DTSTAMP:20260416T230401
CREATED:20260306T225929Z
LAST-MODIFIED:20260306T225929Z
UID:1070-1766176200-1766185200@rosechili.ca
SUMMARY:Complexe Félix-Leclerc de Latuque (Privé)
DESCRIPTION:
URL:https://rosechili.ca/event/complexe-felix-leclerc-de-latuque-prive/
END:VEVENT
BEGIN:VEVENT
DTSTART;TZID=UTC:20251218T190000
DTEND;TZID=UTC:20251218T203000
DTSTAMP:20260416T230401
CREATED:20260306T225836Z
LAST-MODIFIED:20260306T225836Z
UID:1068-1766084400-1766089800@rosechili.ca
SUMMARY:Résidence Jazz St-Gabriel\, St-Hubert (Privé)
DESCRIPTION:
URL:https://rosechili.ca/event/residence-jazz-st-gabriel-st-hubert-prive/
END:VEVENT
BEGIN:VEVENT
DTSTART;TZID=UTC:20251218T140000
DTEND;TZID=UTC:20251218T170000
DTSTAMP:20260416T230401
CREATED:20250922T021630Z
LAST-MODIFIED:20250922T024513Z
UID:812-1766066400-1766077200@rosechili.ca
SUMMARY:MONTRÉAL\, PRIVÉ
DESCRIPTION:
URL:https://rosechili.ca/event/prive/
LOCATION:MONTRÉAL
END:VEVENT
BEGIN:VEVENT
DTSTART;TZID=UTC:20251218T130000
DTEND;TZID=UTC:20251218T140000
DTSTAMP:20260416T230401
CREATED:20260306T225734Z
LAST-MODIFIED:20260306T225734Z
UID:1066-1766062800-1766066400@rosechili.ca
SUMMARY:Maison de Verdun (Privé)
DESCRIPTION:
URL:https://rosechili.ca/event/maison-de-verdun-prive-3/
END:VEVENT
BEGIN:VEVENT
DTSTART;TZID=UTC:20251217T140000
DTEND;TZID=UTC:20251217T180000
DTSTAMP:20260416T230401
CREATED:20250922T024422Z
LAST-MODIFIED:20250922T024422Z
UID:856-1765980000-1765994400@rosechili.ca
SUMMARY:MONTRÉAL\, PRIVÉ
DESCRIPTION:
URL:https://rosechili.ca/event/montreal-prive-4/
LOCATION:MONTRÉAL
END:VEVENT
BEGIN:VEVENT
DTSTART;TZID=UTC:20251217T130000
DTEND;TZID=UTC:20251217T140000
DTSTAMP:20260416T230401
CREATED:20260306T225456Z
LAST-MODIFIED:20260306T225456Z
UID:1062-1765976400-1765980000@rosechili.ca
SUMMARY:Maison de verdun (Privé)
DESCRIPTION:
URL:https://rosechili.ca/event/maison-de-verdun-prive-2/
END:VEVENT
END:VCALENDAR