BEGIN:VCALENDAR
VERSION:2.0
PRODID:-//rosechili.ca - ECPv6.15.13.1//NONSGML v1.0//EN
CALSCALE:GREGORIAN
METHOD:PUBLISH
X-ORIGINAL-URL:https://rosechili.ca
X-WR-CALDESC:Événements pour rosechili.ca
REFRESH-INTERVAL;VALUE=DURATION:PT1H
X-Robots-Tag:noindex
X-PUBLISHED-TTL:PT1H
BEGIN:VTIMEZONE
TZID:UTC
BEGIN:STANDARD
TZOFFSETFROM:+0000
TZOFFSETTO:+0000
TZNAME:UTC
DTSTART:20250101T000000
END:STANDARD
END:VTIMEZONE
BEGIN:VEVENT
DTSTART;TZID=UTC:20260426T130000
DTEND;TZID=UTC:20260426T150000
DTSTAMP:20260416T230357
CREATED:20260306T220239Z
LAST-MODIFIED:20260306T220239Z
UID:1028-1777208400-1777215600@rosechili.ca
SUMMARY:Maison des aînés de Laval (Privé)
DESCRIPTION:
URL:https://rosechili.ca/event/maison-des-aines-de-laval-prive-3/
END:VEVENT
BEGIN:VEVENT
DTSTART;TZID=UTC:20260502T200000
DTEND;TZID=UTC:20260502T220000
DTSTAMP:20260416T230357
CREATED:20260306T220610Z
LAST-MODIFIED:20260306T220610Z
UID:1030-1777752000-1777759200@rosechili.ca
SUMMARY:Superfly High (Disco band) à Lachute (Privé)
DESCRIPTION:
URL:https://rosechili.ca/event/superfly-high-disco-band-a-lachute-prive/
END:VEVENT
BEGIN:VEVENT
DTSTART;TZID=UTC:20260510T133000
DTEND;TZID=UTC:20260510T150000
DTSTAMP:20260416T230357
CREATED:20260306T220801Z
LAST-MODIFIED:20260306T220801Z
UID:1032-1778419800-1778425200@rosechili.ca
SUMMARY:Maison l'Étincelle\, Terrebonne (Privé)
DESCRIPTION:
URL:https://rosechili.ca/event/maison-letincelle-terrebonne-prive/
END:VEVENT
BEGIN:VEVENT
DTSTART;TZID=UTC:20260529T150000
DTEND;TZID=UTC:20260529T190000
DTSTAMP:20260416T230357
CREATED:20260306T220953Z
LAST-MODIFIED:20260306T220953Z
UID:1034-1780066800-1780081200@rosechili.ca
SUMMARY:Les beaux bandits (Mariage à Montréal) Privé
DESCRIPTION:
URL:https://rosechili.ca/event/les-beaux-bandits-mariage-a-montreal-prive/
END:VEVENT
BEGIN:VEVENT
DTSTART;TZID=UTC:20260530T180000
DTEND;TZID=UTC:20260530T233000
DTSTAMP:20260416T230357
CREATED:20260306T221107Z
LAST-MODIFIED:20260306T221107Z
UID:1036-1780164000-1780183800@rosechili.ca
SUMMARY:Level up - St-Jean-sur-Richelieu (Privé)
DESCRIPTION:
URL:https://rosechili.ca/event/level-up-st-jean-sur-richelieu-prive/
END:VEVENT
BEGIN:VEVENT
DTSTART;TZID=UTC:20260606T180000
DTEND;TZID=UTC:20260606T230000
DTSTAMP:20260416T230357
CREATED:20260306T221317Z
LAST-MODIFIED:20260306T221317Z
UID:1038-1780768800-1780786800@rosechili.ca
SUMMARY:Superfly High au Camping de l'Ange Gardien
DESCRIPTION:
URL:https://rosechili.ca/event/superfly-high-au-camping-de-lange-gardien/
END:VEVENT
BEGIN:VEVENT
DTSTART;TZID=UTC:20260619T200000
DTEND;TZID=UTC:20260619T230000
DTSTAMP:20260416T230357
CREATED:20260306T211829Z
LAST-MODIFIED:20260306T211829Z
UID:1003-1781899200-1781910000@rosechili.ca
SUMMARY:Franco Yéyé Show
DESCRIPTION:
URL:https://rosechili.ca/event/franco-yeye-show/
LOCATION:Le Memphis Cabaret\, 323 Rue des Forges\, Trois-Rivières\, QC\, G9A 2G9\, Canada
END:VEVENT
BEGIN:VEVENT
DTSTART;TZID=UTC:20260620T200000
DTEND;TZID=UTC:20260620T230000
DTSTAMP:20260416T230357
CREATED:20260306T212855Z
LAST-MODIFIED:20260306T212855Z
UID:1006-1781985600-1781996400@rosechili.ca
SUMMARY:Franco Yéyé Show
DESCRIPTION:
URL:https://rosechili.ca/event/franco-yeye-show-2/
LOCATION:Le Memphis Cabaret\, 323 Rue des Forges\, Trois-Rivières\, QC\, G9A 2G9\, Canada
END:VEVENT
BEGIN:VEVENT
DTSTART;TZID=UTC:20260623T170000
DTEND;TZID=UTC:20260623T190000
DTSTAMP:20260416T230357
CREATED:20260306T221514Z
LAST-MODIFIED:20260306T221514Z
UID:1040-1782234000-1782241200@rosechili.ca
SUMMARY:Les Belvédères (Fête Nationale à Napierville) - Plus de détails à venir
DESCRIPTION:
URL:https://rosechili.ca/event/les-belvederes-fete-nationale-a-napierville-plus-de-details-a-venir/
END:VEVENT
BEGIN:VEVENT
DTSTART;TZID=UTC:20260624T140000
DTEND;TZID=UTC:20260624T150000
DTSTAMP:20260416T230357
CREATED:20260306T221751Z
LAST-MODIFIED:20260306T221751Z
UID:1042-1782309600-1782313200@rosechili.ca
SUMMARY:Providence St-Dominique (Fête nationale) Privé
DESCRIPTION:
URL:https://rosechili.ca/event/providence-st-dominique-fete-nationale-prive/
END:VEVENT
BEGIN:VEVENT
DTSTART;TZID=UTC:20260626T200000
DTEND;TZID=UTC:20260626T230000
DTSTAMP:20260416T230357
CREATED:20260306T213005Z
LAST-MODIFIED:20260306T213005Z
UID:1008-1782504000-1782514800@rosechili.ca
SUMMARY:Franco Yéyé Show
DESCRIPTION:
URL:https://rosechili.ca/event/franco-yeye-show-3/
LOCATION:Le Memphis Cabaret\, 323 Rue des Forges\, Trois-Rivières\, QC\, G9A 2G9\, Canada
END:VEVENT
BEGIN:VEVENT
DTSTART;TZID=UTC:20260627T200000
DTEND;TZID=UTC:20260627T230000
DTSTAMP:20260416T230357
CREATED:20260306T213109Z
LAST-MODIFIED:20260306T213109Z
UID:1010-1782590400-1782601200@rosechili.ca
SUMMARY:Franco Yéyé Show
DESCRIPTION:
URL:https://rosechili.ca/event/franco-yeye-show-4/
LOCATION:Le Memphis Cabaret\, 323 Rue des Forges\, Trois-Rivières\, QC\, G9A 2G9\, Canada
END:VEVENT
BEGIN:VEVENT
DTSTART;TZID=UTC:20260703T200000
DTEND;TZID=UTC:20260703T230000
DTSTAMP:20260416T230357
CREATED:20260306T213204Z
LAST-MODIFIED:20260306T213204Z
UID:1012-1783108800-1783119600@rosechili.ca
SUMMARY:Franco Yéyé Show
DESCRIPTION:
URL:https://rosechili.ca/event/franco-yeye-show-5/
LOCATION:Le Memphis Cabaret\, 323 Rue des Forges\, Trois-Rivières\, QC\, G9A 2G9\, Canada
END:VEVENT
BEGIN:VEVENT
DTSTART;TZID=UTC:20260704T200000
DTEND;TZID=UTC:20260704T230000
DTSTAMP:20260416T230357
CREATED:20260306T213314Z
LAST-MODIFIED:20260306T213314Z
UID:1014-1783195200-1783206000@rosechili.ca
SUMMARY:Franco Yéyé Show
DESCRIPTION:
URL:https://rosechili.ca/event/franco-yeye-show-6/
LOCATION:Le Memphis Cabaret\, 323 Rue des Forges\, Trois-Rivières\, QC\, G9A 2G9\, Canada
END:VEVENT
BEGIN:VEVENT
DTSTART;TZID=UTC:20260822T150000
DTEND;TZID=UTC:20260822T230000
DTSTAMP:20260416T230357
CREATED:20260306T222414Z
LAST-MODIFIED:20260306T222414Z
UID:1044-1787410800-1787439600@rosechili.ca
SUMMARY:Level up - Mariage (Privé) Bromont
DESCRIPTION:
URL:https://rosechili.ca/event/level-up-mariage-prive-bromont/
END:VEVENT
BEGIN:VEVENT
DTSTART;TZID=UTC:20261114T170000
DTEND;TZID=UTC:20261114T233000
DTSTAMP:20260416T230357
CREATED:20260306T222708Z
LAST-MODIFIED:20260306T222708Z
UID:1046-1794675600-1794699000@rosechili.ca
SUMMARY:Level Up - Granby (Privé)
DESCRIPTION:
URL:https://rosechili.ca/event/level-up-granby-prive/
END:VEVENT
BEGIN:VEVENT
DTSTART;TZID=UTC:20261119T193000
DTEND;TZID=UTC:20261119T210000
DTSTAMP:20260416T230357
CREATED:20260306T222839Z
LAST-MODIFIED:20260306T222839Z
UID:1048-1795116600-1795122000@rosechili.ca
SUMMARY:Cornelius - Montréal (Privé)
DESCRIPTION:
URL:https://rosechili.ca/event/cornelius-montreal-prive/
END:VEVENT
BEGIN:VEVENT
DTSTART;TZID=UTC:20261126T180000
DTEND;TZID=UTC:20261126T230000
DTSTAMP:20260416T230357
CREATED:20260306T223214Z
LAST-MODIFIED:20260306T223214Z
UID:1050-1795716000-1795734000@rosechili.ca
SUMMARY:Duo avec Walter Druce - Club de golf - Longueuil (Privé)
DESCRIPTION:
URL:https://rosechili.ca/event/duo-avec-walter-druce-club-de-golf-longueuil-prive/
END:VEVENT
BEGIN:VEVENT
DTSTART;TZID=UTC:20261204T180000
DTEND;TZID=UTC:20261204T233000
DTSTAMP:20260416T230357
CREATED:20260306T223604Z
LAST-MODIFIED:20260306T223604Z
UID:1052-1796407200-1796427000@rosechili.ca
SUMMARY:Level up - Granby (Privé)
DESCRIPTION:
URL:https://rosechili.ca/event/level-up-granby-prive-2/
END:VEVENT
BEGIN:VEVENT
DTSTART;TZID=UTC:20261216T140000
DTEND;TZID=UTC:20261216T150000
DTSTAMP:20260416T230357
CREATED:20260306T223718Z
LAST-MODIFIED:20260306T223718Z
UID:1054-1797429600-1797433200@rosechili.ca
SUMMARY:CHSLD Contrecoeur (privé)
DESCRIPTION:
URL:https://rosechili.ca/event/chsld-contrecoeur-prive/
END:VEVENT
END:VCALENDAR